BEGIN:VCALENDAR
VERSION:2.0
PRODID:-//eventon.com NONSGML v1.0//EN
BEGIN:VEVENT
UID:69e4cfb5e7801
DTSTAMP:20260419T125101
DTSTART:20170402T100000Z
DTEND:20170402T180000Z
LOCATION:
SUMMARY:Lehrgang  in Bielefeld
DESCRIPTION: 10.00-13.00 Uhr Avci Escrima 14.00-18.00 Uhr Avci WingTsun Adresse: Neustädter Str. 2 33602 Bielefeld
END:VEVENT
END:VCALENDAR